BEGIN:VCALENDAR
VERSION:2.0
PRODID:-//&#039;t Atrium - ECPv6.15.18//NONSGML v1.0//EN
CALSCALE:GREGORIAN
METHOD:PUBLISH
X-ORIGINAL-URL:https://t-atrium.nl
X-WR-CALDESC:Evenementen voor &#039;t Atrium
REFRESH-INTERVAL;VALUE=DURATION:PT1H
X-Robots-Tag:noindex
X-PUBLISHED-TTL:PT1H
BEGIN:VTIMEZONE
TZID:Europe/Brussels
BEGIN:DAYLIGHT
TZOFFSETFROM:+0100
TZOFFSETTO:+0200
TZNAME:CEST
DTSTART:20250330T010000
END:DAYLIGHT
BEGIN:STANDARD
TZOFFSETFROM:+0200
TZOFFSETTO:+0100
TZNAME:CET
DTSTART:20251026T010000
END:STANDARD
BEGIN:DAYLIGHT
TZOFFSETFROM:+0100
TZOFFSETTO:+0200
TZNAME:CEST
DTSTART:20260329T010000
END:DAYLIGHT
BEGIN:STANDARD
TZOFFSETFROM:+0200
TZOFFSETTO:+0100
TZNAME:CET
DTSTART:20261025T010000
END:STANDARD
BEGIN:DAYLIGHT
TZOFFSETFROM:+0100
TZOFFSETTO:+0200
TZNAME:CEST
DTSTART:20270328T010000
END:DAYLIGHT
BEGIN:STANDARD
TZOFFSETFROM:+0200
TZOFFSETTO:+0100
TZNAME:CET
DTSTART:20271031T010000
END:STANDARD
END:VTIMEZONE
BEGIN:VEVENT
DTSTART;VALUE=DATE:20260409
DTEND;VALUE=DATE:20260410
DTSTAMP:20260423T024546
CREATED:20250723T135559Z
LAST-MODIFIED:20260203T160344Z
UID:28629-1775692800-1775779199@t-atrium.nl
SUMMARY:TW3: inh. hele BB /her alleen M4/H5/V6
DESCRIPTION:
URL:https://t-atrium.nl/praktisch/agenda/tw3-inh-hele-bb-her-alleen-m4-h5-v6/
END:VEVENT
BEGIN:VEVENT
DTSTART;VALUE=DATE:20260409
DTEND;VALUE=DATE:20260410
DTSTAMP:20260423T024546
CREATED:20250912T124516Z
LAST-MODIFIED:20260203T160344Z
UID:30633-1775692800-1775779199@t-atrium.nl
SUMMARY:De Atriumsche Spelen - BSM H4/V4
DESCRIPTION:
URL:https://t-atrium.nl/praktisch/agenda/de-atriumsche-spelen-bsm-h4-v4/
END:VEVENT
END:VCALENDAR