BEGIN:VCALENDAR
VERSION:2.0
PRODID:-//&#039;t Atrium - ECPv6.15.18//NONSGML v1.0//EN
CALSCALE:GREGORIAN
METHOD:PUBLISH
X-ORIGINAL-URL:https://t-atrium.nl
X-WR-CALDESC:Evenementen voor &#039;t Atrium
REFRESH-INTERVAL;VALUE=DURATION:PT1H
X-Robots-Tag:noindex
X-PUBLISHED-TTL:PT1H
BEGIN:VTIMEZONE
TZID:Europe/Brussels
BEGIN:DAYLIGHT
TZOFFSETFROM:+0100
TZOFFSETTO:+0200
TZNAME:CEST
DTSTART:20250330T010000
END:DAYLIGHT
BEGIN:STANDARD
TZOFFSETFROM:+0200
TZOFFSETTO:+0100
TZNAME:CET
DTSTART:20251026T010000
END:STANDARD
BEGIN:DAYLIGHT
TZOFFSETFROM:+0100
TZOFFSETTO:+0200
TZNAME:CEST
DTSTART:20260329T010000
END:DAYLIGHT
BEGIN:STANDARD
TZOFFSETFROM:+0200
TZOFFSETTO:+0100
TZNAME:CET
DTSTART:20261025T010000
END:STANDARD
BEGIN:DAYLIGHT
TZOFFSETFROM:+0100
TZOFFSETTO:+0200
TZNAME:CEST
DTSTART:20270328T010000
END:DAYLIGHT
BEGIN:STANDARD
TZOFFSETFROM:+0200
TZOFFSETTO:+0100
TZNAME:CET
DTSTART:20271031T010000
END:STANDARD
END:VTIMEZONE
BEGIN:VEVENT
DTSTART;VALUE=DATE:20260408
DTEND;VALUE=DATE:20260409
DTSTAMP:20260423T024536
CREATED:20250723T135559Z
LAST-MODIFIED:20260203T160344Z
UID:28628-1775606400-1775692799@t-atrium.nl
SUMMARY:Module Xplore P5 kiezen | start week 21
DESCRIPTION:
URL:https://t-atrium.nl/praktisch/agenda/module-xplore-p5-kiezen-start-week-21/
END:VEVENT
BEGIN:VEVENT
DTSTART;VALUE=DATE:20260408
DTEND;VALUE=DATE:20260409
DTSTAMP:20260423T024536
CREATED:20250904T061653Z
LAST-MODIFIED:20260203T160332Z
UID:30269-1775606400-1775692799@t-atrium.nl
SUMMARY:Expositie eindexamenleerlingen V6 KUBV en H5 TeHa
DESCRIPTION:
URL:https://t-atrium.nl/praktisch/agenda/expositie-eindexamenleerlingen-v6-kubv-en-h5-teha/
END:VEVENT
END:VCALENDAR